BEGIN:VCALENDAR
VERSION:2.0
PRODID:-//wp-events-plugin.com//6.6.4.4//EN
TZID:Europe/Paris
X-WR-TIMEZONE:Europe/Paris
BEGIN:VEVENT
UID:271@enorga.fr
DTSTART;TZID=Europe/Paris:20250224T140000
DTEND;TZID=Europe/Paris:20250224T150000
DTSTAMP:20241218T131756Z
URL:https://enorga.fr/formations/7-artisans-commercants-quels-frais-ou-cha
 rges-pouvez-vous-deduire-ou-non-de-votre-benefice/
SUMMARY:#_EVENT
DESCRIPTION:Lundi 24 février à 14H00\n\nDurée : 1H00\n\n&nbsp\;\n\nOBJE
 CTIF : Identifier les différentes catégories de charges « sensibles 
 » déductibles de votre bénéfice.\n\n \n\nPLAN INDICATIF :\n\n 	Condi
 tions générales de déduction fiscale (comptabilité d’engagement\, ju
 stificatifs…)\n 	Les frais de déplacements (véhicules\, repas\, héber
 gement…)\n 	Les cadeaux\n 	Les commissions\n 	Le loyer et les charges ra
 ttachées (électricité…)\n\n&nbsp\;\n\nIntervenante : Françoise Lema
 lle - Expert-comptable et Commissaire aux comptes
CATEGORIES:Distanciel,Gestion, Comptabilité, Fiscal, Juridique, Social
LOCATION:https://enorga.fr/
END:VEVENT
BEGIN:VTIMEZONE
TZID:Europe/Paris
X-LIC-LOCATION:Europe/Paris
BEGIN:STANDARD
DTSTART:20241027T020000
TZOFFSETFROM:+0200
TZOFFSETTO:+0100
TZNAME:CET
END:STANDARD
END:VTIMEZONE
END:VCALENDAR