BEGIN:VCALENDAR
VERSION:2.0
PRODID:-//wp-events-plugin.com//6.6.4.4//EN
TZID:Europe/Paris
X-WR-TIMEZONE:Europe/Paris
BEGIN:VEVENT
UID:288@enorga.fr
DTSTART;TZID=Europe/Paris:20250918T140000
DTEND;TZID=Europe/Paris:20250929T170000
DTSTAMP:20250916T073259Z
URL:https://enorga.fr/formations/anticiper-et-conseiller-sur-la-situation-
 patrimoniale-du-chef-dentreprise/
SUMMARY:#_EVENT
DESCRIPTION:Public :\nCollaborateur EC confirmé\, chef de mission EC\, exp
 ert-comptable stagiaire\, expert-comptable\n\nPrérequis :\nAucun\n\nDuré
 e :\n3 épisodes de 3h en classe virtuelle (total 9h)\n\nDates :\njeudi 18
  septembre 2025             14h-17h\n\njeudi 25 septembre 2025
              14h-17h\n\nlundi 29 septembre 2025       
       14h-17h\n\nLieu :\nClasse virtuelle\n\nModalité et délai d'ac
 cès :\nCette formation est ouverte à tous.\nNous sommes en contact avec 
 l'Agefiph\, pour toute demande contactez--nous afin que nous puissions vou
 s proposer un accueil adapté.\n\nObjectifs :\n\n 	Comprendre les conséqu
 ences patrimoniales et successorales des choix de vie personnelle du chef 
 d’entreprise\n 	Identifier les risques de déséquilibre ou d’insécur
 ité juridique et proposer des solutions de protection\n 	Apporter un écl
 airage fiscal et civil sur les mécanismes de transmission et de protectio
 n du conjoint et/ou des enfants\n\nÉpisode 1 : Régimes Matrimoniaux\, PA
 CS et Concubinage\n\nObjectif spécifique : Conseiller le dirigeant selon 
 sa situation conjugale pour anticiper les conséquences patrimoniales et s
 uccessorales\nProgramme :\n\n 	Effets juridiques et patrimoniaux du concub
 inage\n 	Régime des biens et protection du partenaire dans le PACS\n 	Ré
 gimes matrimoniaux : légal\, séparatiste\, communautaire – effets pend
 ant la vie commune et en cas de séparation ou décès\n 	Conséquences fi
 scales et patrimoniales des dettes de l’entreprise dans chaque régime\n
 \nÉpisode 2 : Donations et Successions\n\nObjectif spécifique : Conseill
 er en amont les dirigeants sur la transmission de leur patrimoine et la st
 ructuration successorale\nProgramme :\n\n 	Principes de la dévolution suc
 cessorale : légale vs volontaire\n 	Notions de réserve héréditaire et 
 quotité disponible\n 	Typologie et fiscalité des donations (en pleine pr
 opriété\, avec réserve d’usufruit\, avec charges ou conditions)\n 	Im
 pact des donations sur la succession future\n 	Fiscalité applicable en ca
 s de transmission\n\nÉpisode 3 : Protection du Conjoint Survivant et/ou d
 es Enfants\n\nObjectif spécifique : Aider à sécuriser la situation des 
 proches du chef d’entreprise en cas de décès\nProgramme :\n\n 	Outils 
 juridiques de protection du conjoint (donation entre époux\, avantages ma
 trimoniaux\, changement de régime…)\n 	Mécanismes adaptés aux enfants
  et partenaires : donation avec réserve d’usufruit\, testament\, renonc
 iation anticipée à l’action en réduction\n 	Utilisation de la sociét
 é civile comme outil de dissociation des pouvoirs et de transmission\n 	U
 tilisation stratégique du contrat d’assurance vie (clause bénéficiair
 e\, démembrement\, fiscalité en cas de décès)\n\nMéthode pédagogique
  :\n\n 	Apports théoriques illustrés de cas pratiques\n 	Analyse de situ
 ations concrètes en cabinet\n 	Échanges interactifs avec les participant
 s\n\nMéthode d’évaluation :\n\n 	Quiz en ligne à l’issue de chaque 
 session\n 	Attestation de participation délivrée à l’issue du parcour
 s ou des épisodes suivis\n\nAnimateur :\nEdouard Chauvet – Formateur ex
 pert\, gestionnaire de patrimoine\, Expert Comptable
CATEGORIES:Distanciel,Experts comptables et collaborateurs,Gestion,
 Comptabilité, Fiscal, Juridique, Social
LOCATION:https://enorga.fr/
END:VEVENT
BEGIN:VTIMEZONE
TZID:Europe/Paris
X-LIC-LOCATION:Europe/Paris
BEGIN:DAYLIGHT
DTSTART:20250330T030000
TZOFFSETFROM:+0100
TZOFFSETTO:+0200
TZNAME:CEST
END:DAYLIGHT
END:VTIMEZONE
END:VCALENDAR