BEGIN:VCALENDAR
VERSION:2.0
PRODID:-//wp-events-plugin.com//6.6.4.4//EN
TZID:Europe/Paris
X-WR-TIMEZONE:Europe/Paris
BEGIN:VEVENT
UID:297@enorga.fr
DTSTART;TZID=Europe/Paris:20251021T090000
DTEND;TZID=Europe/Paris:20251021T123000
DTSTAMP:20250925T073235Z
URL:https://enorga.fr/formations/apprendre-a-lire-detecter-et-corriger-son
 -releve-de-carriere-retraite-bic/
SUMMARY:#_EVENT
DESCRIPTION:Public :\nArtisans\, Commerçants\, Prestataires de services\n\
 nPrérequis :\nAucun\n\nDurée :\n3 heures 30 (classe virtuelle)\n\nDate :
 \nMardi 21 octobre 2025  9H-12H30\n\nLieu :\nDistanciel (classe virtuelle
 )\n\nObjectifs :\n\n 	Savoir accéder et lire son relevé de carrière ret
 raite\n 	Identifier les erreurs ou anomalies éventuelles\n 	Utiliser les 
 outils et démarches de régularisation\n 	Poser les bases d’une straté
 gie retraite personnalisée en partant de sa situation réelle\n\nProgramm
 e :\n\n 	Accès aux informations personnelles de carrière\n\n 	Utiliser e
 fficacement le site officiel lassuranceretraite.fr\n 	Télécharger et com
 prendre les documents clés mis à disposition\n\n\n 	Lecture et compréhe
 nsion du relevé de carrière\n\n 	Identifier les éléments essentiels :\
 n\n 	Trimestres validés\n 	Salaire annuel moyen\n 	Points retraite compl
 émentaire\n 	Âge légal et nombre de trimestres requis\n\n\n\n\n 	Détec
 tion des anomalies\n\n 	Analyser les périodes manquantes ou incohérentes
 \n 	Détecter les erreurs de régime ou de répartition de trimestres\n 	V
 érifier les affiliations aux bons organismes\n\n\n 	Corriger son relevé 
 de carrière\n\n 	Démarches de régularisation : à qui s’adresser\, co
 mment justifier\n 	Cas pratiques de correction : période oubliée\, erreu
 rs de revenus déclarés\, changement de statut\n\n\n 	Préparer une strat
 égie retraite à partir de son relevé\n\n 	Calculer ses droits via les s
 imulateurs officiels\n 	Obtenir une évaluation indicative globale (EIG)\n
  	Simuler le coût d’un rachat de trimestres et son impact\n 	Détermine
 r une date optimale de départ à la retraite\n\n\n\nMéthode pédagogique
  :\n\n 	Présentation interactive et guidée du site lassuranceretraite.fr
 \n 	Études de cas et manipulation en direct de documents réels\n 	Échan
 ges interactifs avec les participants\n\nMéthode d’évaluation :\n\n 	Q
 uiz en ligne à l’issue de la session\n 	Attestation de participation re
 mise à l’issue de la formation\n\nAnimateur :\nEdouard Chauvet – Form
 ateur expert\, gestionnaire de patrimoine\, Expert-Comptable
CATEGORIES:Distanciel,Gestion, Comptabilité, Fiscal, Juridique, Social
LOCATION:http://www.enorga.fr
END:VEVENT
BEGIN:VTIMEZONE
TZID:Europe/Paris
X-LIC-LOCATION:Europe/Paris
BEGIN:DAYLIGHT
DTSTART:20250330T030000
TZOFFSETFROM:+0100
TZOFFSETTO:+0200
TZNAME:CEST
END:DAYLIGHT
END:VTIMEZONE
END:VCALENDAR