BEGIN:VCALENDAR
VERSION:2.0
PRODID:-//wp-events-plugin.com//6.6.4.4//EN
TZID:Europe/Paris
X-WR-TIMEZONE:Europe/Paris
BEGIN:VEVENT
UID:282@enorga.fr
DTSTART;TZID=Europe/Paris:20250527T140000
DTEND;TZID=Europe/Paris:20250527T150000
DTSTAMP:20241217T133400Z
URL:https://enorga.fr/formations/comment-reguler-et-depasser-ses-peurs/
SUMMARY:#_EVENT
DESCRIPTION:Mardi 27 mai 14H00\n\nDurée : 1h00\n\n&nbsp\;\n\nOBJECTIFS :
  Pour le Dirigeant de Très Petite Entreprise et le Professionnel libéral
 \, apprendre à maîtriser ses peurs face aux aléas de la vie et à prend
 re du recul.\n\n&nbsp\;\n\nPLAN INDICATIF :\n\n 	Rappel du processus émo
 tionnel\n 	Décodage de la peur et de son message\n 	Diverses pratiques po
 ur réguler sa peur facilement\n 	Auto-coaching à mettre en place\n\n&nbs
 p\;\n\nIntervenante : Catherine Rouault - Formatrice en communication et 
 approches comportementales
CATEGORIES:Distanciel,Efficacité Professionnelle
LOCATION:https://enorga.fr/
END:VEVENT
BEGIN:VTIMEZONE
TZID:Europe/Paris
X-LIC-LOCATION:Europe/Paris
BEGIN:DAYLIGHT
DTSTART:20250330T030000
TZOFFSETFROM:+0100
TZOFFSETTO:+0200
TZNAME:CEST
END:DAYLIGHT
END:VTIMEZONE
END:VCALENDAR