BEGIN:VCALENDAR
VERSION:2.0
PRODID:-//wp-events-plugin.com//6.6.4.4//EN
TZID:Europe/Paris
X-WR-TIMEZONE:Europe/Paris
BEGIN:VEVENT
UID:285@enorga.fr
DTSTART;TZID=Europe/Paris:20250130T140000
DTEND;TZID=Europe/Paris:20250130T150000
DTSTAMP:20250130T123445Z
URL:https://enorga.fr/formations/decouvrez-le-secret-pour-apaiser-vos-emot
 ions-et-celle-de-vos-patients/
SUMMARY:#_EVENT
DESCRIPTION:\n\n\n\n\n\n\n\n\n\n&nbsp\;\n\n\n\n&nbsp\;\n\nPublic :\nTout pu
 blic\n\nDurée : 1h\n\nProgramme :\n\n\n\n\n\n\n\n\n\n\n\n\n\n\n\n\n\n\n\n
 Pendant 1 h\, Catherine Rouault vous expose comment gérer ses émotions d
 e manière efficace\, en partageant des techniques simples et accessibles 
 à tous.\nElle vous guidera pas à pas pour mieux comprendre vos réaction
 s émotionnelles et adopter des outils concrets pour les maîtriser au quo
 tidien.\nDe plus\, elle vous donnera quelques conseils pratiques pour int
 égrer ces méthodes dans votre pratique professionnelle et ainsi soutenir
  vos patients dans la gestion de leurs propres émotions. Une session enri
 chissante pour améliorer à la fois votre bien-être personnel et vos com
 pétences en accompagnement.\n\nAnimateur :\nCatherine Rouault\, Formatric
 e spécialisée en développement personnel et accompagnement émotionnel\
 , avec une expertise en techniques psycho-corporelles.\n\n\n&nbsp\;\n\n\n\
 n\n\n\n\n\n
CATEGORIES:Distanciel,Efficacité Professionnelle
LOCATION:https://us06web.zoom.us/j/6835872941?omn=82253136465
END:VEVENT
BEGIN:VTIMEZONE
TZID:Europe/Paris
X-LIC-LOCATION:Europe/Paris
BEGIN:STANDARD
DTSTART:20241027T020000
TZOFFSETFROM:+0200
TZOFFSETTO:+0100
TZNAME:CET
END:STANDARD
END:VTIMEZONE
END:VCALENDAR