BEGIN:VCALENDAR
VERSION:2.0
PRODID:-//wp-events-plugin.com//6.6.4.4//EN
TZID:Europe/Paris
X-WR-TIMEZONE:Europe/Paris
BEGIN:VEVENT
UID:272@enorga.fr
DTSTART;TZID=Europe/Paris:20250327T140000
DTEND;TZID=Europe/Paris:20250327T150000
DTSTAMP:20241217T105322Z
URL:https://enorga.fr/formations/independants-protegez-votre-patrimoine/
SUMMARY:#_EVENT
DESCRIPTION:Jeudi 27 mars 14H00\n\nDurée : 1H00\n\n&nbsp\;\n\nOBJECTIF :
  Identifier comment les Chefs d’entreprise et les Professionnels libéra
 ux peuvent protéger leurs patrimoines\, sans modifier leurs formes juridi
 ques.\n\n \n\nPLAN INDICATIF :\n\n 	L’entreprise individuelle : la nou
 velle donne depuis 2022\n 	La notion de responsabilité financière\n 	Les
  cautions : rédaction\, limitation\n 	L’importance du régime matrimoni
 al\n 	L’insaisissabilité\n 	Conclusion : un statut de société est-il 
 utile dans le cadre de la protection du patrimoine ?\n\n&nbsp\;\n\nInterve
 nant : Thierry Lemalle - Expert-comptable et Commissaire aux comptes
CATEGORIES:Distanciel,Gestion, Comptabilité, Fiscal, Juridique, Social
LOCATION:https://enorga.fr/
END:VEVENT
BEGIN:VTIMEZONE
TZID:Europe/Paris
X-LIC-LOCATION:Europe/Paris
BEGIN:STANDARD
DTSTART:20241027T020000
TZOFFSETFROM:+0200
TZOFFSETTO:+0100
TZNAME:CET
END:STANDARD
END:VTIMEZONE
END:VCALENDAR