BEGIN:VCALENDAR
VERSION:2.0
PRODID:-//wp-events-plugin.com//6.6.4.4//EN
TZID:Europe/Paris
X-WR-TIMEZONE:Europe/Paris
BEGIN:VEVENT
UID:270@enorga.fr
DTSTART;TZID=Europe/Paris:20250312T140000
DTEND;TZID=Europe/Paris:20250312T150000
DTSTAMP:20241217T101936Z
URL:https://enorga.fr/formations/la-communication-ou-pensee-positive-la-cl
 e-du-lacher-prise/
SUMMARY:#_EVENT
DESCRIPTION:Mercredi 12 mars 14h00\n\nDurée : 1h00\n\n&nbsp\;\n\nOBJECTIF
 S : Fournir aux participants des outils et des stratégies pour adopter u
 ne pensée positive et apprendre à lâcher prise afin d'améliorer leur b
 ien-être personnel et professionnel.\n\n&nbsp\;\n\nPLAN INDICATIF : \n\n
  	La pensée positive : qu'est-ce que c'est ?\n\n-Définition de la pensé
 e positive et de ces bénéfices.\n\n-Comment pratiquer dans le cadre prof
 essionnel.\n\n 	La négativité : un cercle vicieux\n\n-La méthode Coué 
 et l’autosuggestion\n\n-L'impact des pensées négatives sur la santé.\
 n\n 	Le Lâcher Prise\n\n-Qu’est-ce que le lâcher prise ?\n\n-Technique
 s pour adopter le lâcher prise naturellement.\n\n 	10 conseils pour culti
 ver sa positivité au quotidien\n 	Ressources et lectures recommandées\n\
 n&nbsp\;\n\nIntervenante : Perrine Six – Naturopathe et accompagnante s
 anté
CATEGORIES:Communication, management, développement commercial,Distanciel
LOCATION:https://enorga.fr/
END:VEVENT
BEGIN:VTIMEZONE
TZID:Europe/Paris
X-LIC-LOCATION:Europe/Paris
BEGIN:STANDARD
DTSTART:20241027T020000
TZOFFSETFROM:+0200
TZOFFSETTO:+0100
TZNAME:CET
END:STANDARD
END:VTIMEZONE
END:VCALENDAR