BEGIN:VCALENDAR
VERSION:2.0
PRODID:-//wp-events-plugin.com//6.6.4.4//EN
TZID:Europe/Paris
X-WR-TIMEZONE:Europe/Paris
BEGIN:VEVENT
UID:284@enorga.fr
DTSTART;TZID=Europe/Paris:20250130T183000
DTEND;TZID=Europe/Paris:20250130T200000
DTSTAMP:20250113T143344Z
URL:https://enorga.fr/formations/la-prevoyance-du-chef-dentreprise/
SUMMARY:#_EVENT
DESCRIPTION:Introduction :\nLa présentation des régimes obligatoires et d
 es différentes prestations.\n\nThème prévoyance du chef d’entreprise\
 n\nProtection du chef d’entreprise en entreprise individuelle ou en soci
 été  :\n\nArrêt maladie\nInvalidité\nDécès\n\nProtection de l’ent
 reprise\n\nLa garantie Homme- clé.\nLes garanties croisés entre associé
 s.\nExemples concrets selon diverses\, professions pour  illustrer nos pr
 opos.\n\nConclusion :\n\nQuestions / Réponses\nL’importance de faire un
  bilan personnalisé pour des solutions sur-mesure.\n\n&nbsp\;\n\nEchanges
  entre les participants autour d'un apéritif convivial
CATEGORIES:Gestion, Comptabilité, Fiscal, Juridique, Social,Troyes
LOCATION:Enorga - Troyes
X-APPLE-STRUCTURED-LOCATION;VALUE=URI;X-ADDRESS=19\, rue Ambroise Cottet\, 
 Troyes\, 10000\, Aube\, France;X-APPLE-RADIUS=100;X-TITLE=Enorga - Troyes:
 geo:0,0
END:VEVENT
BEGIN:VTIMEZONE
TZID:Europe/Paris
X-LIC-LOCATION:Europe/Paris
BEGIN:STANDARD
DTSTART:20241027T020000
TZOFFSETFROM:+0200
TZOFFSETTO:+0100
TZNAME:CET
END:STANDARD
END:VTIMEZONE
END:VCALENDAR