BEGIN:VCALENDAR
VERSION:2.0
PRODID:-//wp-events-plugin.com//6.6.4.4//EN
TZID:Europe/Paris
X-WR-TIMEZONE:Europe/Paris
BEGIN:VEVENT
UID:294@enorga.fr
DTSTART;TZID=Europe/Paris:20251014T090000
DTEND;TZID=Europe/Paris:20251015T120000
DTSTAMP:20251009T133104Z
URL:https://enorga.fr/formations/la-societe-civile-immobiliere-cles-de-com
 prehension-et-applications-pratiques/
SUMMARY:#_EVENT
DESCRIPTION:Public\n\nCollaborateurs EC confirmés\, chefs de mission EC\, 
 experts-comptables stagiaires\, experts-comptables\n\nPrérequis\n\nAucun\
 n\nDurée\n\nDeux sessions en distanciel de 3 heures chacune\n\nDates\n\nP
 artie 1 : mardi 14 octobre 2025 9h-12h\n\nPartie 2 : mercredi 15 octobre
  2025 9h-12h\n\n&nbsp\;\n\nObjectifs\n\n 	Comprendre les conséquences civ
 iles et patrimoniales de la détention d’un immeuble via une SCI\n 	Maî
 triser les principes et le fonctionnement de la SCI\n 	Identifier les impl
 ications fiscales (revenus fonciers\, IS\, TVA\, plus-values)\n 	Évaluer 
 les options et pièges à éviter en matière de fiscalité de la SCI\n\nP
 rogramme\n\nÉpisode 1 : Volet civil et patrimonial de la SCI\n\n 	Conséq
 uences civiles et patrimoniales de la détention d’un bien immobilier en
  SCI versus détention directe\n 	Principes et fonctionnement d’une SCI\
 n 	SCI comme alternative à l’indivision\n 	Séparation patrimoine priv
 é / patrimoine professionnel\n 	Protection du conjoint\, partenaire PACS 
 ou concubin\n 	Transmission familiale : dissociation de l’avoir et du po
 uvoir\n\nÉpisode 2 : Volet fiscal de la SCI\n\n 	Régime de plein droit d
 es revenus fonciers : calcul et gestion du déficit foncier\n 	Option pour
  l’impôt sur les sociétés : avantages\, inconvénients\, cas d’assu
 jettissement obligatoire\n 	TVA : exonérations\, options et obligations\n
  	Plus-values de cession : immeubles et parts sociales\n\nMéthode pédago
 gique\n\n 	Exposés interactifs basés sur des cas concrets\n 	Échanges a
 vec les participants\, questions/réponses\n 	Études de cas et exemples p
 ratiques\n\nMéthode d’évaluation\n\n 	QCM de positionnement en début 
 et fin de formation (en ligne)\n 	Support PDF et valise documentaire remis
 \n 	Attestation de présence délivrée à l’issue de la formation\n\nAn
 imateur\n\nEdouard Chauvet – Formateur expert\, gestionnaire de patrimoi
 ne\, Expert Comptable
CATEGORIES:Distanciel,Experts comptables et collaborateurs,Gestion,
 Comptabilité, Fiscal, Juridique, Social
LOCATION:https://enorga.fr/
END:VEVENT
BEGIN:VTIMEZONE
TZID:Europe/Paris
X-LIC-LOCATION:Europe/Paris
BEGIN:DAYLIGHT
DTSTART:20250330T030000
TZOFFSETFROM:+0100
TZOFFSETTO:+0200
TZNAME:CEST
END:DAYLIGHT
END:VTIMEZONE
END:VCALENDAR