BEGIN:VCALENDAR
VERSION:2.0
PRODID:-//wp-events-plugin.com//6.6.4.4//EN
TZID:Europe/Paris
X-WR-TIMEZONE:Europe/Paris
BEGIN:VEVENT
UID:286@enorga.fr
DTSTART;TZID=Europe/Paris:20250227T140000
DTEND;TZID=Europe/Paris:20250227T144500
DTSTAMP:20250205T141232Z
URL:https://enorga.fr/formations/les-10-pieges-du-management-comment-les-e
 viter-pour-etre-efficace/
SUMMARY:#_EVENT
DESCRIPTION:Les managers doivent aujourd’hui naviguer dans un environneme
 nt complexe et changeant\, marqué par de grandes ruptures technologiques 
 et sociétales\, par la montée des risques psychosociaux\, le travail hyb
 ride et une forte démotivation des équipes.\n\nJonglant entre productivi
 té et bien-être\, gestion des conflits et nouvelles attentes des jeunes 
 générations\, le manager d’aujourd’hui joue un rôle aussi crucial q
 ue challengeant.\n\nLes modèles de management du passé ne sont plus adap
 tés.\n\nLes manageurs doivent développer une approche managériale plus 
 agile\, à l’écoute et respectueuse de leur propre équilibre.\n\n&nbsp
 \;\n\nDans ce webinaire de 45 minutes\, nous explorerons les 10 grandes er
 reurs de management à éviter\, en ouvrant des pistes concrètes pour ada
 pter votre approche managériale et engager vos équipes dans un monde en 
 pleine transformation.\n\n&nbsp\;\n\nPar Alice VIVIAN \n\nConférencière
  et formatrice en gestion du stress\, care management et leadership\, fond
 atrice de mojom\nRetrouvez sa bio ici
CATEGORIES:Communication, management, développement commercial,Distanciel
LOCATION:http://www.enorga.fr
END:VEVENT
BEGIN:VTIMEZONE
TZID:Europe/Paris
X-LIC-LOCATION:Europe/Paris
BEGIN:STANDARD
DTSTART:20241027T020000
TZOFFSETFROM:+0200
TZOFFSETTO:+0100
TZNAME:CET
END:STANDARD
END:VTIMEZONE
END:VCALENDAR