BEGIN:VCALENDAR
VERSION:2.0
PRODID:-//wp-events-plugin.com//6.6.4.4//EN
TZID:Europe/Paris
X-WR-TIMEZONE:Europe/Paris
BEGIN:VEVENT
UID:291@enorga.fr
DTSTART;TZID=Europe/Paris:20260317T090000
DTEND;TZID=Europe/Paris:20261222T110000
DTSTAMP:20260109T080107Z
URL:https://enorga.fr/formations/les-rencontres-trimestrielles-de-la-paie-
 2/
SUMMARY:#_EVENT
DESCRIPTION:Dates :\n\nMardi 17 mars 2026 : 9h-11h\n\nMardi 23 juin 2026 : 
 9h-11h\n\nMardi 22 septembre 2026 : 9h-11h\n\nMardi 22 décembre 2026 : 9h
 -11h\n\nPublic :\nGestionnaires de paie\, responsables RH\, et toute perso
 nne impliquée dans la gestion des bulletins de paie et de la réglementat
 ion sociale.\n\nPrérequis :\nConnaissances de base en gestion de la paie.
 \n\nDurée :\n4 sessions de 2 heures (8 heures au total)\n\nLieu :\ndistan
 ciel\n\nObjectifs :\n\n 	Être à jour des actualités législatives et r
 églementaires en matière de paie\n 	Décrypter les textes législatifs e
 t règlementaires\n 	Mettre en pratique les nouveautés en gestion de la p
 aie\n 	Anticiper les évolutions en analysant les projets de texte en cour
 s\n\nProgramme :\n\nRendez-vous trimestriels de 2 heures permettant :\n\n 
 	Faire le tour de l’actualité paie : lois\, décrets\, circulaires\, ac
 cords\, jurisprudence\n 	Analyser l’impact et la mise en pratique des no
 uveautés sociales :\n\n 	Zoom sur les ajustements législatifs et règlem
 entaires récents\n 	Analyse des textes en cours de discussion\n\n\n 	Appr
 ofondir une règle de paie choisie par les participants :\n\n 	Étude dét
 aillée d’un thème ou d’une situation spécifique\n\n\n 	Aborder des 
 aspects spécifiques :\n\n 	TPE\, multi-conventions collectives\, et conse
 il client\n\n\n 	Échanger sur les difficultés et les bonnes pratiques :\
 n\n 	Partage d’expériences et conseils opérationnels\n\n\n\nMéthode p
 édagogique :\n\n 	Formation interentreprise en classe virtuelle avec 5 à
  12 participants\n 	Alternance d’exposés théoriques\, exercices pratiq
 ues\, et études de cas\n 	Échanges interactifs entre les participants po
 ur enrichir les apprentissages\n\nMéthode d’évaluation :\n\n 	Quiz pou
 r évaluer et valider les connaissances acquises\n 	Questionnaire d’éva
 luation à la fin de chaque session\n 	Remise d’une attestation de forma
 tion et d’un certificat de réalisation\n\nAnimateur :\nFormatrice spéc
 ialisée en droit social et gestion de la paie\n\n&nbsp\;\n\n&nbsp\;
CATEGORIES:Distanciel,Experts comptables et collaborateurs,Gestion,
 Comptabilité, Fiscal, Juridique, Social
LOCATION:https://enorga.fr/formations/les-rencontres-trimestrielles-de-la-p
 aie/
END:VEVENT
BEGIN:VTIMEZONE
TZID:Europe/Paris
X-LIC-LOCATION:Europe/Paris
BEGIN:STANDARD
DTSTART:20251026T020000
TZOFFSETFROM:+0200
TZOFFSETTO:+0100
TZNAME:CET
END:STANDARD
BEGIN:DAYLIGHT
DTSTART:20260329T030000
TZOFFSETFROM:+0100
TZOFFSETTO:+0200
TZNAME:CEST
END:DAYLIGHT
BEGIN:STANDARD
DTSTART:20261025T020000
TZOFFSETFROM:+0200
TZOFFSETTO:+0100
TZNAME:CET
END:STANDARD
END:VTIMEZONE
END:VCALENDAR