BEGIN:VCALENDAR
VERSION:2.0
PRODID:-//wp-events-plugin.com//6.6.4.4//EN
TZID:Europe/Paris
X-WR-TIMEZONE:Europe/Paris
BEGIN:VEVENT
UID:280@enorga.fr
DTSTART;TZID=Europe/Paris:20250513T140000
DTEND;TZID=Europe/Paris:20250513T150000
DTSTAMP:20241217T133119Z
URL:https://enorga.fr/formations/lessentiel-de-ce-que-vous-devez-savoir-su
 r-les-placements-financiers-et-leur-fiscalite/
SUMMARY:#_EVENT
DESCRIPTION:Mardi 13 mai 14H00\n\nDurée : 1H00\n\n&nbsp\;\n\nOBJECTIF : A
 ppréhender le fonctionnement et la fiscalité des différents placements 
 financiers.\n\n&nbsp\;\n\nPLAN INDICATIF :\n\n 	Définition des différen
 ts placements\n 	Comprendre la fiscalité de chaque placement\n 	Les crit
 ères de sélection\n\n&nbsp\;\n\nIntervenant : Antoine Przybylek - Conse
 il en Gestion de Patrimoine\, titulaire d’un master comptabilité\, fina
 nce\, patrimoine
CATEGORIES:Distanciel,Gestion, Comptabilité, Fiscal, Juridique, Social
LOCATION:https://enorga.fr/
END:VEVENT
BEGIN:VTIMEZONE
TZID:Europe/Paris
X-LIC-LOCATION:Europe/Paris
BEGIN:DAYLIGHT
DTSTART:20250330T030000
TZOFFSETFROM:+0100
TZOFFSETTO:+0200
TZNAME:CEST
END:DAYLIGHT
END:VTIMEZONE
END:VCALENDAR