BEGIN:VCALENDAR
VERSION:2.0
PRODID:-//wp-events-plugin.com//6.6.4.4//EN
TZID:Europe/Paris
X-WR-TIMEZONE:Europe/Paris
BEGIN:VEVENT
UID:278@enorga.fr
DTSTART;TZID=Europe/Paris:20250424T140000
DTEND;TZID=Europe/Paris:20250424T153000
DTSTAMP:20241217T133435Z
URL:https://enorga.fr/formations/loueurs-en-meuble-professionnels-et-non-p
 rofessionnels-lessentiel-que-vous-devez-connaitre-sur-le-plan-fiscal-et-so
 cial/
SUMMARY:#_EVENT
DESCRIPTION:Jeudi 24 avril 14h00\n\nDurée : 1H30\n\n \n\nOBJECTIF : Maî
 triser l’essentiel de la fiscalité et du régime social du statut de lo
 ueur en meublé.\n\n&nbsp\;\n\nPLAN INDICATIF : \n\n 	Critères d’identi
 fication : professionnel ou non professionnel ?\n 	Le régime fiscal du 
 LMP et du LMNP : conséquences sur votre imposition\n 	Le régime social 
 du LMP et du LMNP : montant des cotisations sociales ?\n 	Conséquences 
 lors de la vente.\n\n \n\nIntervenant : Thierry Lemalle - Expert-comptab
 le et Commissaire aux comptes
CATEGORIES:Distanciel,Gestion, Comptabilité, Fiscal, Juridique, Social
LOCATION:https://enorga.fr/
END:VEVENT
BEGIN:VTIMEZONE
TZID:Europe/Paris
X-LIC-LOCATION:Europe/Paris
BEGIN:DAYLIGHT
DTSTART:20250330T030000
TZOFFSETFROM:+0100
TZOFFSETTO:+0200
TZNAME:CEST
END:DAYLIGHT
END:VTIMEZONE
END:VCALENDAR