BEGIN:VCALENDAR
VERSION:2.0
PRODID:-//wp-events-plugin.com//6.6.4.4//EN
TZID:Europe/Paris
X-WR-TIMEZONE:Europe/Paris
BEGIN:VEVENT
UID:276@enorga.fr
DTSTART;TZID=Europe/Paris:20250410T140000
DTEND;TZID=Europe/Paris:20250410T150000
DTSTAMP:20241217T131212Z
URL:https://enorga.fr/formations/maitrisez-votre-stress-comme-un-athlete/
SUMMARY:#_EVENT
DESCRIPTION:Jeudi 10 avril 14h00\n\nDurée : 1h00\n\n&nbsp\;\n\nOBJECTIFS
  : Comprendre ce qu’est le stress et ses effets physiologiques pour mie
 ux le maîtriser et optimiser ses ressources.\n\n&nbsp\;\n\nPLAN INDICATIF
  : \n\n 	Comprendre le stress positif\, le stress d’urgence et le stres
 s prolongé\n 	Le triangle psychocorporel (Pensées / Émotions /Comportem
 ent)\n 	Le coping (façon de s’adapter aux situations difficiles) et les
  stratégies cognitives\n 	Le rôle du SNA : Système Nerveux Autonome\n 
 	Reprendre le contrôle du SNA\n 	Comment réguler son niveau de stress en
  fonction des exigences de son environnement\n\n&nbsp\;\n\nIntervenant : 
 Antony Verbrugge – Formateur spécialisé dans la gestion du stress et e
 n optimisation de potentiel. Ancien membre du GIPN.
CATEGORIES:Distanciel,Efficacité Professionnelle
LOCATION:https://enorga.fr/
END:VEVENT
BEGIN:VTIMEZONE
TZID:Europe/Paris
X-LIC-LOCATION:Europe/Paris
BEGIN:DAYLIGHT
DTSTART:20250330T030000
TZOFFSETFROM:+0100
TZOFFSETTO:+0200
TZNAME:CEST
END:DAYLIGHT
END:VTIMEZONE
END:VCALENDAR