BEGIN:VCALENDAR
VERSION:2.0
PRODID:-//wp-events-plugin.com//6.6.4.4//EN
TZID:Europe/Paris
X-WR-TIMEZONE:Europe/Paris
BEGIN:VEVENT
UID:296@enorga.fr
DTSTART;TZID=Europe/Paris:20251125T133000
DTEND;TZID=Europe/Paris:20251125T170000
DTSTAMP:20250707T100623Z
URL:https://enorga.fr/formations/plan-epargne-retraite-accompagner-le-clie
 nt-dans-la-gestion-fiscale-de-ses-plans/
SUMMARY:#_EVENT
DESCRIPTION:Public :\nCollaborateur EC confirmé\, chef de mission EC\, exp
 ert-comptable stagiaire\, expert-comptable\n\nPrérequis :\nAucun\n\nDuré
 e :\n3 heures 30 minutes (en distanciel\, classe virtuelle)\n\nDate :\nMar
 di 25 novembre 2025  13h30 -17h00\n\nLieu :\nClasse virtuelle\n\nObjectif
 s :\n\n 	Comprendre le cadre légal et les spécificités du Plan Épargne
  Retraite (PER)\n 	Maîtriser les interactions entre les différents dispo
 sitifs d’épargne retraite\n 	Conseiller efficacement les clients sur la
  gestion fiscale de leurs plans\n\nProgramme :\n\n 	Rappel des caractéris
 tiques et fonctionnement du PER\n 	Mécanisme de l’allocation d’actif 
 : horizon\, profil de risque\, gestion pilotée ou libre\n 	Transférabili
 té des contrats : PER et anciens contrats\n 	Indisponibilité et cas de d
 éblocage des fonds\n 	Mécanisme d’alimentation du contrat : versement 
 volontaire et abondement\n 	Décryptage des nouvelles obligations déclara
 tives introduites par le décret du 30 juillet 2021\n 	Comprendre le choix
  entre les articles 163 quatervicies et 154 bis du CGI au moment de la dé
 claration fiscale\n 	Gestion des plafonds spécifiques pour les TNS et int
 eraction entre les dispositifs\n 	Utilisation des plafonds non consommés 
 des années précédentes et du plafond du conjoint\n 	Points de vigilance
  et cas pratiques\n\nMéthode pédagogique :\n\n 	Exposés interactifs bas
 és sur des cas concrets\n 	Échanges et questions-réponses avec les part
 icipants\n 	Support PDF et valise documentaire fournis\n\nMéthode d’év
 aluation :\n\n 	QCM en début et fin de formation\n 	Attestation de prése
 nce délivrée à l’issue de la formation\n\nAnimateur :\nEdouard Chauve
 t – Formateur expert\, gestionnaire de patrimoine\, Expert Comptable
CATEGORIES:Distanciel,Experts comptables et collaborateurs,Gestion,
 Comptabilité, Fiscal, Juridique, Social
LOCATION:https://enorga.fr/
END:VEVENT
BEGIN:VTIMEZONE
TZID:Europe/Paris
X-LIC-LOCATION:Europe/Paris
BEGIN:STANDARD
DTSTART:20251026T020000
TZOFFSETFROM:+0200
TZOFFSETTO:+0100
TZNAME:CET
END:STANDARD
END:VTIMEZONE
END:VCALENDAR