BEGIN:VCALENDAR
VERSION:2.0
PRODID:-//wp-events-plugin.com//6.6.4.4//EN
TZID:Europe/Paris
X-WR-TIMEZONE:Europe/Paris
BEGIN:VEVENT
UID:277@enorga.fr
DTSTART;TZID=Europe/Paris:20250415T140000
DTEND;TZID=Europe/Paris:20250415T150000
DTSTAMP:20241217T141117Z
URL:https://enorga.fr/formations/pourquoi-souscrire-un-contrat-de-prevoyan
 ce/
SUMMARY:#_EVENT
DESCRIPTION:Mardi 15 avril 14h00\n\nDurée : 1H00\n\n&nbsp\;\n\nOBJECTIFS
  : Pour les indépendants\, être conscient des carences de la protection
  sociale des régimes généraux\, et connaître les solutions apportées 
 par les régimes complémentaires. Anticiper les conséquences d’un arr
 êt de travail\, d’une invalidité ou d’un décès\, protéger sa fami
 lle et son entreprise.\n\n&nbsp\;\n\nPLAN INDICATIF : \n\n 	Définition d
 e la prévoyance\n 	Le statut du chef d’entreprise et sa rémunération\
 n 	Les différents régimes obligatoires de prévoyance\n 	La couverture d
 es régimes obligatoires\n 	Les carences des régimes obligatoires\n 	Les 
 risques couverts par les régimes complémentaires\n 	Le coût des régime
 s complémentaires\n 	La déduction « Madelin » des cotisations\n 	Exe
 mples\n 	Les points de vigilance des conditions générales des contrats\n
 \n \n\nIntervenant : Philippe Reussard - Conseil en protection sociale d
 es Dirigeants d’entreprise
CATEGORIES:Distanciel,Gestion, Comptabilité, Fiscal, Juridique, Social
LOCATION:https://enorga.fr/
END:VEVENT
BEGIN:VTIMEZONE
TZID:Europe/Paris
X-LIC-LOCATION:Europe/Paris
BEGIN:DAYLIGHT
DTSTART:20250330T030000
TZOFFSETFROM:+0100
TZOFFSETTO:+0200
TZNAME:CEST
END:DAYLIGHT
END:VTIMEZONE
END:VCALENDAR