BEGIN:VCALENDAR
VERSION:2.0
PRODID:-//wp-events-plugin.com//6.6.4.4//EN
TZID:Europe/Paris
X-WR-TIMEZONE:Europe/Paris
BEGIN:VEVENT
UID:273@enorga.fr
DTSTART;TZID=Europe/Paris:20250319T140000
DTEND;TZID=Europe/Paris:20250319T150000
DTSTAMP:20241217T125836Z
URL:https://enorga.fr/formations/protegez-vous-des-pirates-informatiques-2
 /
SUMMARY:#_EVENT
DESCRIPTION:Mercredi 19 mars 14H00\n\nDurée : 1h00\n\n&nbsp\;\n\nOBJECTIF
 S : Pour les Dirigeants de TPE et professionnels libéraux\, connaître l
 es bases de la protection informatique et savoir réagir de façon efficac
 e face à une attaque.\n\n&nbsp\;\n\nPLAN INDICATIF : \n\n 	Les Menaces A
 ctuelles\n\n-Les types de cybermenaces courantes\n\n-Les exemples concrets
  de cyberattaques touchant les très petites entreprises\n\n 	Les Bases de
  la Cybersécurité\n\n-L’importance des mots de passe forts\n\n-L’uti
 lisation de l'authentification à deux facteurs (2FA)\n\n-La sécurisation
  des appareils mobiles et des réseaux Wi-Fi\n\n 	La protection des Donné
 es Sensibles\n\n-Le stockage sécurisé des données clients et financièr
 es\n\n-L’utilisation de logiciels de sécurité (antivirus\, pare-feu)\n
 \n-La sauvegarde régulière des données\n\n 	Les bonnes pratiques de sé
 curité à adopter\n 	Le plan de Réponse aux Incidents\n\n-L’élaborati
 on d'un plan de réponse aux incidents\n\n-Les étapes à suivre en cas de
  cyberattaque\n\n 	Les ressources et Outils Disponibles\n\n-La présentati
 on des outils gratuits et payants adaptés aux Très Petites Entreprises\n
 \n&nbsp\;\n\nIntervenant : Thomas Battinelli – Consultant en cybersécu
 rité
CATEGORIES:Distanciel,Informatique Communication Digital
LOCATION:https://enorga.fr/
END:VEVENT
BEGIN:VTIMEZONE
TZID:Europe/Paris
X-LIC-LOCATION:Europe/Paris
BEGIN:STANDARD
DTSTART:20241027T020000
TZOFFSETFROM:+0200
TZOFFSETTO:+0100
TZNAME:CET
END:STANDARD
END:VTIMEZONE
END:VCALENDAR