BEGIN:VCALENDAR
VERSION:2.0
PRODID:-//wp-events-plugin.com//6.6.4.4//EN
TZID:Europe/Paris
X-WR-TIMEZONE:Europe/Paris
BEGIN:VEVENT
UID:281@enorga.fr
DTSTART;TZID=Europe/Paris:20250520T140000
DTEND;TZID=Europe/Paris:20250520T150000
DTSTAMP:20241217T133244Z
URL:https://enorga.fr/formations/quelles-sont-les-meilleures-options-a-cho
 isir-pour-mon-vehicule-professionnel-lachat-comptant-ou-a-credit-le-credit
 -bail-ou-la-location/
SUMMARY:#_EVENT
DESCRIPTION:Mardi 20 mai 14H00\n\nDurée : 1H00\n\n&nbsp\;\n\nOBJECTIF : 
 Pouvoir calculer l’incidence fiscale des différents modes de détention
  d’un véhicule.\n\n&nbsp\;\n\nPLAN INDICATIF :\n\n 	Immobilisations et
  amortissements : que peut-on déduire ?\n 	Le crédit-bail : quel est 
 le montant déductible ?\n 	La location : quel est le montant du loyer d
 éductible ?\n 	Les frais accessoires : assurances\, carburant\, répara
 tions\n 	Le cas particulier des IK (indemnités kilométriques) pour les p
 rofessions libérales\n 	Synthèse : tableau comparatif\n\n&nbsp\;\n\nInt
 ervenante : Françoise Lemalle - Expert-comptable et Commissaire aux comp
 tes
CATEGORIES:Distanciel,Gestion, Comptabilité, Fiscal, Juridique, Social
LOCATION:https://enorga.fr/
END:VEVENT
BEGIN:VTIMEZONE
TZID:Europe/Paris
X-LIC-LOCATION:Europe/Paris
BEGIN:DAYLIGHT
DTSTART:20250330T030000
TZOFFSETFROM:+0100
TZOFFSETTO:+0200
TZNAME:CEST
END:DAYLIGHT
END:VTIMEZONE
END:VCALENDAR