BEGIN:VCALENDAR
VERSION:2.0
PRODID:-//wp-events-plugin.com//6.6.4.4//EN
TZID:Europe/Paris
X-WR-TIMEZONE:Europe/Paris
BEGIN:VEVENT
UID:295@enorga.fr
DTSTART;TZID=Europe/Paris:20251104T090000
DTEND;TZID=Europe/Paris:20251106T123000
DTSTAMP:20250707T100326Z
URL:https://enorga.fr/formations/quiz-pour-se-perfectionner-en-fiscalite-b
 ic/
SUMMARY:#_EVENT
DESCRIPTION:Public :\nCollaborateurs expérimentés (+3 ans d’expérience
 ) gérant un portefeuille BIC\n(Cette formation ne s’adresse pas aux pro
 fessionnels spécialisés en fiscalité)\n\nDurée :\n\nDate :\nMardi 4 et
  Jeudi 6 novembre 2025\n\nLieu :\nclasse virtuelle\n\nObjectifs :\n\n 	Vé
 rifier le régime d’imposition applicable selon l’activité\n 	Déterm
 iner le résultat fiscal d’une entreprise individuelle BIC\n 	Traiter fi
 scalement les sociétés non soumises à l’impôt sur les sociétés\n 	
 Maîtriser les règles fiscales de la location meublée (LMP / LMNP)\n 	Ap
 pliquer correctement les règles relatives aux amortissements et plus-valu
 es\n 	Sécuriser les provisions dans le respect des conditions fiscales\n\
 nProgramme :\n\nPartie 1 : Régimes d’imposition et options\n\n 	Activit
 és relevant des BIC\n 	Distinction micro-BIC / régime réel\n 	BIC profe
 ssionnel ou non professionnel\n 	Cas de cumul d’activités\n\nPartie 2 :
  Amortissements et provisions\n\n 	Décomposition des actifs et amortissem
 ents excédentaires\n 	Application de l’article 39 C du CGI pour la loca
 tion meublée\n 	Conditions de déductibilité d’une provision\n\nPartie
  3 : Plus ou moins-values\n\n 	Ventilation court et long terme\n 	Calcul d
 es PMV nettes\n 	Dispositifs d’exonération\n 	Spécificités liées à 
 la location meublée\n\nPartie 4 : Résultat fiscal de l’entreprise indi
 viduelle\n\n 	Déductions et réintégrations\n 	Zones franches et exonér
 ations (ZRR\, ZFRR\, ZFU)\n 	Crédits et réductions d’impôt\n\nPartie 
 5 : Sociétés non soumises à l’IS\n\n 	Régimes de plein droit et sur 
 option\n 	Réintégrations spécifiques\n 	Imposition des associés\n\nMé
 thode pédagogique :\n\n 	Apports théoriques\n 	Quiz interactif via Woocl
 ap\n 	Études de cas pratiques\n 	Support pédagogique remis aux participa
 nts\n\nMéthode d’évaluation :\n\n 	Validation des acquis par quiz fina
 l\n 	Évaluations à chaud (fin de formation)\n 	Feuille de présence ou r
 apport de connexion (si distanciel)\n 	Attestation de participation déliv
 rée\n\nAnimatrice :\nCarine Berthoud\nDiplômée d’expertise-comptable\
 , spécialisée en pédagogie appliquée
CATEGORIES:Distanciel,Experts comptables et collaborateurs,Gestion,
 Comptabilité, Fiscal, Juridique, Social
LOCATION:https://enorga.fr/
END:VEVENT
BEGIN:VTIMEZONE
TZID:Europe/Paris
X-LIC-LOCATION:Europe/Paris
BEGIN:STANDARD
DTSTART:20251026T020000
TZOFFSETFROM:+0200
TZOFFSETTO:+0100
TZNAME:CET
END:STANDARD
END:VTIMEZONE
END:VCALENDAR