BEGIN:VCALENDAR
VERSION:2.0
PRODID:-//wp-events-plugin.com//6.6.4.4//EN
TZID:Europe/Paris
X-WR-TIMEZONE:Europe/Paris
BEGIN:VEVENT
UID:287@enorga.fr
DTSTART;TZID=Europe/Paris:20250612T140000
DTEND;TZID=Europe/Paris:20250612T150000
DTSTAMP:20250515T142442Z
URL:https://enorga.fr/formations/sachez-tirer-profit-de-lia-avec-des-instr
 uctions-prompts-simples-et-efficaces/
SUMMARY:#_EVENT
DESCRIPTION:Jeudi 12 juin 14H00\n\nDurée : 1H00\n\n&nbsp\;\n\nOBJECTIF :
  Comprendre ce qu’est un prompt et comment le construire pour converser
  efficacement avec une IA générative. Sensibiliser les utilisateurs aux
  risques de l'IA. Passer à l’action.\n\nPLAN INDICATIF :\n\n 	Qu’est
 -ce qu’un prompt et quand est-il utilisé en contexte professionnel ?\n 
 	Comment écrire un bon prompt ?\n 	Exemples pratiques pour les Très Peti
 tes Entreprises\n 	Sensibilisation aux risques de l'IA et recommandations 
 quant à la protection des données personnelles des utilisateurs.\n\nInte
 rvenant : Pierre Le Nost –Expert IA Machine Learning.
CATEGORIES:Distanciel,Informatique Communication Digital
LOCATION:https://enorga.fr/
END:VEVENT
BEGIN:VTIMEZONE
TZID:Europe/Paris
X-LIC-LOCATION:Europe/Paris
BEGIN:DAYLIGHT
DTSTART:20250330T030000
TZOFFSETFROM:+0100
TZOFFSETTO:+0200
TZNAME:CEST
END:DAYLIGHT
END:VTIMEZONE
END:VCALENDAR