BEGIN:VCALENDAR
VERSION:2.0
PRODID:-//wp-events-plugin.com//6.6.4.4//EN
TZID:Europe/Paris
X-WR-TIMEZONE:Europe/Paris
BEGIN:VEVENT
UID:279@enorga.fr
DTSTART;TZID=Europe/Paris:20250505T133000
DTEND;TZID=Europe/Paris:20250505T144500
DTSTAMP:20241217T132955Z
URL:https://enorga.fr/formations/trouvez-vos-prochains-prospects-grace-aux
 -reseaux-sociaux/
SUMMARY:#_EVENT
DESCRIPTION:Lundi 5 mai 13h30\n\nDurée : 1h15\n\n&nbsp\;\n\nOBJECTIFS : 
 Connaître les principales fonctionnalités des différents réseaux socia
 ux. Comprendre quels réseaux sont utiles pour trouver vos clients. Compre
 ndre quelle cible utilise quel réseau. Savoir quoi et comment publier pou
 r se rendre visible et attractif.\n\n&nbsp\;\n\nPLAN INDICATIF :\n\n 	Etat
  de lieux de l’utilisation des réseaux sociaux en France en 2025\n 	Que
 l(s) réseau(x) pour quelle(s) cible(s) ?\n 	Quel(s) réseau(x) pour quel(
 s) contenu(s) ?\n 	Comment publier un contenu performant ?\n 	La Publicit
 é sur les réseaux sociaux\n\n \n\nIntervenant : David Bedouet - Respon
 sable Digital et co-gérant d'une agence de marketing et digitale
CATEGORIES:Distanciel,Informatique Communication Digital
LOCATION:https://enorga.fr/
END:VEVENT
BEGIN:VTIMEZONE
TZID:Europe/Paris
X-LIC-LOCATION:Europe/Paris
BEGIN:DAYLIGHT
DTSTART:20250330T030000
TZOFFSETFROM:+0100
TZOFFSETTO:+0200
TZNAME:CEST
END:DAYLIGHT
END:VTIMEZONE
END:VCALENDAR